BEGIN:VCALENDAR
VERSION:2.0
PRODID:-//Squarespace Inc/Squarespace 6//v6//EN
BEGIN:VEVENT
UID:5ca13bc91905f4c611b72b0a@squarespace.com
DTSTAMP:20190401T001611Z
DTSTART:20190404T063000Z
DTEND:20190404T093000Z
SUMMARY:Ebony Lamb  - Supporting Brendan &amp\; Alison Turner (of Auck) MOO
 N\, NEWTOWN\, WELLINGTON
GEO:-41.313136;174.7799
LOCATION:Moon\, 167 Riddiford Street\, Wellington\, Wellington\, 6021\, New 
 Zealand
END:VEVENT
END:VCALENDAR
