BEGIN:VCALENDAR
VERSION:2.0
PRODID:-//Squarespace Inc/Squarespace 6//v6//EN
BEGIN:VEVENT
UID:5ca157062cca3c0001b84562@squarespace.com
DTSTAMP:20190401T001600Z
DTSTART:20190418T073000Z
DTEND:20190418T103000Z
SUMMARY:Ebony Lamb - Supporting Brendan &amp\; Alison Turner ( of Auck) ST 
 PETERS HALL\, PAEKAKARIKI
GEO:40.720756;-74.000761
LOCATION:St Peters Hall\, 19 Beach Road\, Paekakariki\, Wellington\, 5034\, 
 New Zealand
END:VEVENT
END:VCALENDAR
