BEGIN:VCALENDAR
VERSION:2.0
PRODID:-//Squarespace Inc/Squarespace 6//v6//EN
BEGIN:VEVENT
UID:590ce3edcd0f684a29410646@squarespace.com
DTSTAMP:20170719T025553Z
DTSTART:20170526T074500Z
DTEND:20170526T110000Z
SUMMARY:FRI 26  MAY PAEKAKARIKI St Peters Hall - EB & SPARROW
GEO:-40.988282;174.951063
LOCATION:St Peters Village Hall\, 19 Beach Road\, Paekakariki\, Wellington\
 , 5034\, New Zealand
END:VEVENT
END:VCALENDAR
