BEGIN:VCALENDAR
VERSION:2.0
PRODID:-//Squarespace Inc/Squarespace 6//v6//EN
BEGIN:VEVENT
UID:5ee43deafd12cf53ad21e740@squarespace.com
DTSTAMP:20200613T025347Z
DTSTART:20200613T030000Z
DTEND:20200613T040000Z
SUMMARY:EBONY LAMB + THE WARRATAHS - MARTON
END:VEVENT
END:VCALENDAR
