BEGIN:VCALENDAR
VERSION:2.0
PRODID:-//Squarespace Inc/Squarespace 6//v6//EN
BEGIN:VEVENT
UID:5da8f14577e66471a0a38473@squarespace.com
DTSTAMP:20191017T225741Z
DTSTART:20200123T230000Z
DTEND:20200127T000000Z
SUMMARY:EBONY LAMB - AUCKLAND FOLK FESTIVAL 
GEO:-36.779251;174.554557
LOCATION:KUMEU showgrounds\, 41 Access Rd\, Kumeu 0810
END:VEVENT
END:VCALENDAR
