BEGIN:VCALENDAR
VERSION:2.0
PRODID:-//Squarespace Inc/Squarespace 6//v6//EN
BEGIN:VEVENT
UID:5dcbaa288c91dc31502fca96@squarespace.com
DTSTAMP:20191113T070558Z
DTSTART:20191130T053000Z
DTEND:20191130T080000Z
SUMMARY:EBONY LAMB SPACE GALLERY WHANGANUI SOUND SESSION
GEO:-39.930089;175.04789
LOCATION:66 Taupo Quay\, Whanganui
END:VEVENT
END:VCALENDAR
