BEGIN:VCALENDAR
VERSION:2.0
PRODID:-//Squarespace Inc/Squarespace 6//v6//EN
BEGIN:VEVENT
UID:5dc8f43d59401f7817925bf2@squarespace.com
DTSTAMP:20191111T060819Z
DTSTART:20191124T050000Z
DTEND:20191124T074500Z
SUMMARY:EBONY LAMB RECORD FUNDRAISER WITH FRIENDS!
GEO:-41.294097;174.775458
LOCATION:SAN FRAN\, 171 Cuba Street\, Wellington\, Wellington\, 6011\, New 
 Zealand
END:VEVENT
END:VCALENDAR
