BEGIN:VCALENDAR
VERSION:2.0
PRODID:-//Squarespace Inc/Squarespace 6//v6//EN
BEGIN:VEVENT
UID:5da6cd93d269d15bfc9af7bc@squarespace.com
DTSTAMP:20191016T080918Z
DTSTART:20191018T070000Z
DTEND:20191018T100000Z
SUMMARY:Ebony Lamb - Supporting Tami Neilson
GEO:-41.290533;174.7745
LOCATION:Meow\, 9 Edward Street\, Wellington\, Wellington\, 6011\, New Zeal
 and
END:VEVENT
END:VCALENDAR
