BEGIN:VCALENDAR
VERSION:2.0
PRODID:-//Squarespace Inc/Squarespace 6//v6//EN
BEGIN:VEVENT
UID:5b89b5a088251be5b1184089@squarespace.com
DTSTAMP:20180831T214502Z
DTSTART:20181014T060000Z
DTEND:20181014T093000Z
SUMMARY:BYE BYE BABY - EB & SPARROW SAN FRAN w ADAM MCGRATH
GEO:-41.294097;174.775458
LOCATION:SAN FRAN\, 171 Cuba Street\, Wellington\, Wellington\, 6011\, New 
 Zealand
END:VEVENT
END:VCALENDAR
