BEGIN:VCALENDAR
VERSION:2.0
PRODID:-//Squarespace Inc/Squarespace 6//v6//EN
BEGIN:VEVENT
UID:5b249a41aa4a99e2ba0f8d1d@squarespace.com
DTSTAMP:20180616T053434Z
DTSTART:20180629T090000Z
DTEND:20180629T113000Z
SUMMARY:Ebony Lamb - supporting Bernie Griffen & The Thin Men (Auck) MEOW B
 AR\, WELLINGTON
GEO:-41.290533;174.7745
LOCATION:MEOW\, 9 Edward Street\, Wellington\, Wellington\, 6011\, New Zeal
 and
END:VEVENT
END:VCALENDAR
