BEGIN:VCALENDAR
VERSION:2.0
PRODID:-//Squarespace Inc/Squarespace 6//v6//EN
BEGIN:VEVENT
UID:5a8bdefee2c4831ac9c89c8f@squarespace.com
DTSTAMP:20180425T224913Z
DTSTART:20180427T080000Z
DTEND:20180427T110000Z
SUMMARY:WHANGANUI Lucky - Seeing Things Album Release
GEO:-39.934985;175.04782
LOCATION:Lucky Bar\, 53 Wilson Street\, Whanganui\, Manawatu-Wanganui\, 450
 0\, New Zealand
END:VEVENT
END:VCALENDAR
