BEGIN:VCALENDAR
VERSION:2.0
PRODID:-//Squarespace Inc/Squarespace 6//v6//EN
BEGIN:VEVENT
UID:5a8bd5cd24a694d70743244a@squarespace.com
DTSTAMP:20180222T203720Z
DTSTART:20180420T080000Z
DTEND:20180420T110000Z
SUMMARY:DUNEDIN Captain Cook Hotel - Seeing Things Album Release
GEO:-45.866529;170.509235
LOCATION:Captain Cook Hotel\, 354 Great King Street\, Dunedin\, OTA\, 9016\
 , New Zealand
END:VEVENT
END:VCALENDAR
