BEGIN:VCALENDAR
VERSION:2.0
PRODID:-//Squarespace Inc/Squarespace 6//v6//EN
BEGIN:VEVENT
UID:5a8bd35cec212d1cb416b468@squarespace.com
DTSTAMP:20180222T203450Z
DTSTART:20180414T073000Z
DTEND:20180414T110000Z
SUMMARY:HAUMOANA Hall\, Hawkes Bay - Seeing Things Album Release
GEO:-39.604141;176.945908
LOCATION:Haumoana Hall\, 6 Beach Road\, Haumoana\, Hawke's Bay\, 4102\, New 
 Zealand
END:VEVENT
END:VCALENDAR
