BEGIN:VCALENDAR
VERSION:2.0
PRODID:-//Squarespace Inc/Squarespace 6//v6//EN
BEGIN:VEVENT
UID:5a88f02a41920223d0759e68@squarespace.com
DTSTAMP:20180317T191111Z
DTSTART:20180324T070000Z
DTEND:20180324T100000Z
SUMMARY:PAEKAKARIKI  St Peters Hall "Seeing Things" Album Release with FREN
 CH FOR RABBITS
GEO:-40.988056;174.950989
LOCATION:St Peters Hall\, Beach Road\, Paekakariki\, 5034\, New Zealand
END:VEVENT
END:VCALENDAR
