BEGIN:VCALENDAR
VERSION:2.0
PRODID:-//Squarespace Inc/Squarespace 6//v6//EN
BEGIN:VEVENT
UID:5a7058cec83025e265782c77@squarespace.com
DTSTAMP:20180220T093751Z
DTSTART:20180225T020000Z
DTEND:20180225T050000Z
SUMMARY:FREE SHOW - SUMMER SOCIAL  concert series Palmerston North 
GEO:-40.384575;175.620945
LOCATION:Massey University Oval\, University Avenue\, Palmerston North\, Ma
 nawatu-Wanganui\, 4474\, New Zealand
END:VEVENT
END:VCALENDAR
