BEGIN:VCALENDAR
VERSION:2.0
PRODID:-//Squarespace Inc/Squarespace 6//v6//EN
BEGIN:VEVENT
UID:588a5b455016e137992de4fd@squarespace.com
DTSTAMP:20170126T203038Z
DTSTART:20170204T063000Z
DTEND:20170204T100000Z
SUMMARY:Cohen / Dylan Night  - Paekakariki Community Show
END:VEVENT
END:VCALENDAR
