BEGIN:VCALENDAR
VERSION:2.0
PRODID:-//Squarespace Inc/Squarespace 6//v6//EN
BEGIN:VEVENT
UID:599a9d3c6b8f5bbfecb493ff@squarespace.com
DTSTAMP:20170821T085101Z
DTSTART:20171014T070000Z
DTEND:20171014T103000Z
SUMMARY:MEOW WELLINGTON - To The West Single Release w VERY SPECIAL GUESTS!
GEO:-41.290533;174.7745
LOCATION:Meow\, 9 Edward Street\, Wellington\, Wellington\, 6011\, New Zeal
 and
END:VEVENT
END:VCALENDAR
