BEGIN:VCALENDAR
VERSION:2.0
PRODID:-//Squarespace Inc/Squarespace 6//v6//EN
BEGIN:VEVENT
UID:585202958419c26b682ab4f7@squarespace.com
DTSTAMP:20161216T193720Z
DTSTART:20170107T063000Z
DTEND:20170107T103000Z
SUMMARY:Eb & Sparrow Album Fundraiser With Nadia Reid\, Rosy Tin Teacaddy a
 nd Kim & Dusty
END:VEVENT
END:VCALENDAR
