BEGIN:VCALENDAR
VERSION:2.0
PRODID:-//Squarespace Inc/Squarespace 6//v6//EN
BEGIN:VEVENT
UID:5813ab40b3db2b2b3a92ce13@squarespace.com
DTSTAMP:20161102T022146Z
DTSTART:20161210T020000Z
DTEND:20161210T080000Z
SUMMARY:EB & SPARROW duo at THE EASTERNS 10th Anniversary
END:VEVENT
END:VCALENDAR
